BEGIN:VCALENDAR
VERSION:2.0
PRODID:-//Rescue Dogs Rock NYC - ECPv6.15.20//NONSGML v1.0//EN
CALSCALE:GREGORIAN
METHOD:PUBLISH
X-WR-CALNAME:Rescue Dogs Rock NYC
X-ORIGINAL-URL:https://rescuedogsrocknyc.org
X-WR-CALDESC:Events for Rescue Dogs Rock NYC
REFRESH-INTERVAL;VALUE=DURATION:PT1H
X-Robots-Tag:noindex
X-PUBLISHED-TTL:PT1H
BEGIN:VTIMEZONE
TZID:America/New_York
BEGIN:DAYLIGHT
TZOFFSETFROM:-0500
TZOFFSETTO:-0400
TZNAME:EDT
DTSTART:20200308T070000
END:DAYLIGHT
BEGIN:STANDARD
TZOFFSETFROM:-0400
TZOFFSETTO:-0500
TZNAME:EST
DTSTART:20201101T060000
END:STANDARD
BEGIN:DAYLIGHT
TZOFFSETFROM:-0500
TZOFFSETTO:-0400
TZNAME:EDT
DTSTART:20210314T070000
END:DAYLIGHT
BEGIN:STANDARD
TZOFFSETFROM:-0400
TZOFFSETTO:-0500
TZNAME:EST
DTSTART:20211107T060000
END:STANDARD
BEGIN:DAYLIGHT
TZOFFSETFROM:-0500
TZOFFSETTO:-0400
TZNAME:EDT
DTSTART:20220313T070000
END:DAYLIGHT
BEGIN:STANDARD
TZOFFSETFROM:-0400
TZOFFSETTO:-0500
TZNAME:EST
DTSTART:20221106T060000
END:STANDARD
BEGIN:DAYLIGHT
TZOFFSETFROM:-0500
TZOFFSETTO:-0400
TZNAME:EDT
DTSTART:20230312T070000
END:DAYLIGHT
BEGIN:STANDARD
TZOFFSETFROM:-0400
TZOFFSETTO:-0500
TZNAME:EST
DTSTART:20231105T060000
END:STANDARD
BEGIN:DAYLIGHT
TZOFFSETFROM:-0500
TZOFFSETTO:-0400
TZNAME:EDT
DTSTART:20240310T070000
END:DAYLIGHT
BEGIN:STANDARD
TZOFFSETFROM:-0400
TZOFFSETTO:-0500
TZNAME:EST
DTSTART:20241103T060000
END:STANDARD
BEGIN:DAYLIGHT
TZOFFSETFROM:-0500
TZOFFSETTO:-0400
TZNAME:EDT
DTSTART:20250309T070000
END:DAYLIGHT
BEGIN:STANDARD
TZOFFSETFROM:-0400
TZOFFSETTO:-0500
TZNAME:EST
DTSTART:20251102T060000
END:STANDARD
END:VTIMEZONE
BEGIN:VTIMEZONE
TZID:UTC
BEGIN:STANDARD
TZOFFSETFROM:+0000
TZOFFSETTO:+0000
TZNAME:UTC
DTSTART:20180101T000000
END:STANDARD
END:VTIMEZONE
BEGIN:VEVENT
DTSTART;TZID=America/New_York:20240622T120000
DTEND;TZID=America/New_York:20240622T170000
DTSTAMP:20260420T084116
CREATED:20240313T023158Z
LAST-MODIFIED:20240313T023158Z
UID:7678-1719057600-1719075600@rescuedogsrocknyc.org
SUMMARY:Back on the Road HOPS ON THE HILL ADOPTION EVENT
DESCRIPTION:
URL:https://rescuedogsrocknyc.org/event/back-on-the-road-hops-on-the-hill-adoption-event/
LOCATION:275 Dug Road\, 275 Dug Road\, Glastonbury\, CT\, 06073\, United States
CATEGORIES:Adoption Events
END:VEVENT
BEGIN:VEVENT
DTSTART;TZID=America/New_York:20240608T120000
DTEND;TZID=America/New_York:20240608T160000
DTSTAMP:20260420T084116
CREATED:20240313T023027Z
LAST-MODIFIED:20240313T023027Z
UID:7675-1717848000-1717862400@rescuedogsrocknyc.org
SUMMARY:Back on the Road CATHERINE HUBBARD BUTTERFLY PARTY ADOPTION EVENT
DESCRIPTION:
URL:https://rescuedogsrocknyc.org/event/back-on-the-road-catherine-hubbard-butterfly-party-adoption-event/
LOCATION:Fairfield Hill Campus\, 3 Primrose Street\, Newtown\, CT\, 06470\, United States
CATEGORIES:Adoption Events
END:VEVENT
BEGIN:VEVENT
DTSTART;TZID=America/New_York:20240606T170000
DTEND;TZID=America/New_York:20240606T200000
DTSTAMP:20260420T084116
CREATED:20240313T022703Z
LAST-MODIFIED:20240313T022703Z
UID:7672-1717693200-1717704000@rescuedogsrocknyc.org
SUMMARY:Back on the Road WOOFSTOCK  ADOPTION EVENT
DESCRIPTION:
URL:https://rescuedogsrocknyc.org/event/back-on-the-road-woofstock-adoption-event/
LOCATION:Across from 150 W Front Street\, Across from 150 W Front Street\, Keyport\, NJ\, 07735\, United States
CATEGORIES:Adoption Events
END:VEVENT
BEGIN:VEVENT
DTSTART;TZID=America/New_York:20240518T110000
DTEND;TZID=America/New_York:20240518T170000
DTSTAMP:20260420T084116
CREATED:20240313T022529Z
LAST-MODIFIED:20240313T022529Z
UID:7670-1716030000-1716051600@rescuedogsrocknyc.org
SUMMARY:Back on the Road MARINE PARK ADOPTION EVENT
DESCRIPTION:
URL:https://rescuedogsrocknyc.org/event/back-on-the-road-marine-park-adoption-event-3/
LOCATION:Marine Park\, 3301 Avenue U (next to Avenue U parking lot)\, Brooklyn\, NY\, 11234\, United States
CATEGORIES:Adoption Events
END:VEVENT
BEGIN:VEVENT
DTSTART;TZID=America/New_York:20240427T110000
DTEND;TZID=America/New_York:20240427T160000
DTSTAMP:20260420T084117
CREATED:20240313T022356Z
LAST-MODIFIED:20240313T022356Z
UID:7668-1714215600-1714233600@rescuedogsrocknyc.org
SUMMARY:Back on the Road BAREBURGER ADOPTION EVENT
DESCRIPTION:
URL:https://rescuedogsrocknyc.org/event/back-on-the-road-bareburger-adoption-event-2/
LOCATION:149 Court St\, 149 Court St\, Brooklyn\, NY\, 11201\, United States
CATEGORIES:Adoption Events
END:VEVENT
BEGIN:VEVENT
DTSTART;TZID=America/New_York:20240407T150000
DTEND;TZID=America/New_York:20240407T190000
DTSTAMP:20260420T084117
CREATED:20240313T022247Z
LAST-MODIFIED:20240313T022247Z
UID:7666-1712502000-1712516400@rescuedogsrocknyc.org
SUMMARY:Back on the Road NY AUTO SHOW ADOPTION EVENT Partnered with Subaru
DESCRIPTION:
URL:https://rescuedogsrocknyc.org/event/back-on-the-road-ny-auto-show-adoption-event-partnered-with-subaru-3/
LOCATION:Jacob Javits Convention Center\, 429 11th Avenue\, New York\, 10001\, United States
CATEGORIES:Adoption Events
END:VEVENT
BEGIN:VEVENT
DTSTART;TZID=America/New_York:20240406T160000
DTEND;TZID=America/New_York:20240406T200000
DTSTAMP:20260420T084117
CREATED:20240313T022208Z
LAST-MODIFIED:20240313T022208Z
UID:7664-1712419200-1712433600@rescuedogsrocknyc.org
SUMMARY:Back on the Road NY AUTO SHOW ADOPTION EVENT Partnered with Subaru
DESCRIPTION:
URL:https://rescuedogsrocknyc.org/event/back-on-the-road-ny-auto-show-adoption-event-partnered-with-subaru-2/
LOCATION:Jacob Javits Convention Center\, 429 11th Avenue\, New York\, 10001\, United States
CATEGORIES:Adoption Events
END:VEVENT
BEGIN:VEVENT
DTSTART;TZID=America/New_York:20240403T110000
DTEND;TZID=America/New_York:20240405T200000
DTSTAMP:20260420T084117
CREATED:20240313T022054Z
LAST-MODIFIED:20240313T022054Z
UID:7661-1712142000-1712347200@rescuedogsrocknyc.org
SUMMARY:Back on the Road NY AUTO SHOW ADOPTION EVENT Partnered with Subaru
DESCRIPTION:
URL:https://rescuedogsrocknyc.org/event/back-on-the-road-ny-auto-show-adoption-event-partnered-with-subaru/
LOCATION:Jacob Javits Convention Center\, 429 11th Avenue\, New York\, 10001\, United States
CATEGORIES:Adoption Events
END:VEVENT
BEGIN:VEVENT
DTSTART;TZID=America/New_York:20221029T110000
DTEND;TZID=America/New_York:20221029T170000
DTSTAMP:20260420T084117
CREATED:20220815T011751Z
LAST-MODIFIED:20220815T011751Z
UID:7012-1667041200-1667062800@rescuedogsrocknyc.org
SUMMARY:Back on the Road Marine Park Adoption Event
DESCRIPTION:Saturday\, October 29th 11am-5pm
URL:https://rescuedogsrocknyc.org/event/back-on-the-road-marine-park-adoption-event-2/
LOCATION:Marine Park\, 3301 Avenue U (next to Avenue U parking lot)\, Brooklyn\, NY\, 11234\, United States
CATEGORIES:Adoption Events
END:VEVENT
BEGIN:VEVENT
DTSTART;TZID=America/New_York:20220924T110000
DTEND;TZID=America/New_York:20220924T160000
DTSTAMP:20260420T084117
CREATED:20220531T182242Z
LAST-MODIFIED:20220815T011316Z
UID:6992-1664017200-1664035200@rescuedogsrocknyc.org
SUMMARY:Back on the Road BAREBURGER ADOPTION EVENT
DESCRIPTION:SAT\, SEPT 24 AT 11 AM – 4pm
URL:https://rescuedogsrocknyc.org/event/back-on-the-road-bareburger-adoption-event/
LOCATION:149 Court St\, 149 Court St\, Brooklyn\, NY\, 11201\, United States
CATEGORIES:Adoption Events
END:VEVENT
BEGIN:VEVENT
DTSTART;TZID=America/New_York:20220910T110000
DTEND;TZID=America/New_York:20220910T160000
DTSTAMP:20260420T084117
CREATED:20220531T182138Z
LAST-MODIFIED:20220531T182138Z
UID:6989-1662807600-1662825600@rescuedogsrocknyc.org
SUMMARY:Back on the Road WeHa Brewing and Roasting Company Adoption Event
DESCRIPTION:SAT\, SEP 10 AT 11 AM – 4pm
URL:https://rescuedogsrocknyc.org/event/back-on-the-road-weha-brewing-and-roasting-company-adoption-event/
LOCATION:141 Shield St\, 141 Shield St\, West Hartford\, CT\, 06110\, United States
CATEGORIES:Adoption Events
END:VEVENT
BEGIN:VEVENT
DTSTART;TZID=America/New_York:20220709T110000
DTEND;TZID=America/New_York:20220709T160000
DTSTAMP:20260420T084117
CREATED:20220531T182025Z
LAST-MODIFIED:20220531T182025Z
UID:6986-1657364400-1657382400@rescuedogsrocknyc.org
SUMMARY:Back on the Road MODERN PET ADOPTION EVENT
DESCRIPTION:SAT\, JUL 9 AT 11 AM – 4pm
URL:https://rescuedogsrocknyc.org/event/back-on-the-road-modern-pet-adoption-event-2/
LOCATION:26th Ave\, 26th Ave\, Bayside\, NY\, 11360\, United States
CATEGORIES:Adoption Events
END:VEVENT
BEGIN:VEVENT
DTSTART;TZID=America/New_York:20220625T110000
DTEND;TZID=America/New_York:20220625T160000
DTSTAMP:20260420T084117
CREATED:20220531T181906Z
LAST-MODIFIED:20220531T181906Z
UID:6983-1656154800-1656172800@rescuedogsrocknyc.org
SUMMARY:Back on the Road COMMUNITY PET SUPPLY ADOPTION EVENT
DESCRIPTION:SAT\, JUN 25 AT 11 AM – 4pm
URL:https://rescuedogsrocknyc.org/event/back-on-the-road-community-pet-supply-adoption-event/
LOCATION:741 W Jericho Tpke\, 741 W Jericho Tpke\, Huntington\, NY\, 11743\, United States
CATEGORIES:Adoption Events
END:VEVENT
BEGIN:VEVENT
DTSTART;TZID=America/New_York:20220604T110000
DTEND;TZID=America/New_York:20220604T170000
DTSTAMP:20260420T084117
CREATED:20220531T181743Z
LAST-MODIFIED:20220531T181743Z
UID:6980-1654340400-1654362000@rescuedogsrocknyc.org
SUMMARY:Back on the Road MARINE PARK ADOPTION EVENT
DESCRIPTION:SATURDAY\, JUNE 4\, 2022 AT 11 AM – 5 PM
URL:https://rescuedogsrocknyc.org/event/back-on-the-road-marine-park-adoption-event/
LOCATION:3301 Avenue U\, 3301 Avenue U\, Marine Park\, NY\, 11234\, United States
CATEGORIES:Adoption Events
END:VEVENT
BEGIN:VEVENT
DTSTART;TZID=America/New_York:20211113T110000
DTEND;TZID=America/New_York:20211113T160000
DTSTAMP:20260420T084117
CREATED:20210922T202208Z
LAST-MODIFIED:20210922T202537Z
UID:6756-1636801200-1636819200@rescuedogsrocknyc.org
SUMMARY:Back on the Road Modern Pet Adoption Event
DESCRIPTION:November 13 @  11am – 4pm
URL:https://rescuedogsrocknyc.org/event/back-on-the-road-modern-pet-adoption-event/
LOCATION:The Bay Terrace Shopping Center\, 212-77 26th Avenue\, Queens\, NY\, 11360\, United States
CATEGORIES:Adoption Events
END:VEVENT
BEGIN:VEVENT
DTSTART;TZID=America/New_York:20211024T100000
DTEND;TZID=America/New_York:20211024T140000
DTSTAMP:20260420T084117
CREATED:20211011T185054Z
LAST-MODIFIED:20211011T185054Z
UID:6786-1635069600-1635084000@rescuedogsrocknyc.org
SUMMARY:Back on the Road Ocean Breeze Halloween Festival
DESCRIPTION:
URL:https://rescuedogsrocknyc.org/event/back-on-the-road-ocean-breeze-halloween-festival/
LOCATION:Ocean Breeze Park & Athletic Complex\, 625 Father Capodanno Blvd\, Staten Island\, NY\, 10305\, United States
CATEGORIES:Adoption Events
END:VEVENT
BEGIN:VEVENT
DTSTART;TZID=America/New_York:20211023T110000
DTEND;TZID=America/New_York:20211023T160000
DTSTAMP:20260420T084117
CREATED:20211011T184852Z
LAST-MODIFIED:20211011T184852Z
UID:6783-1634986800-1635004800@rescuedogsrocknyc.org
SUMMARY:Back on the Road Yogi Festival
DESCRIPTION:
URL:https://rescuedogsrocknyc.org/event/back-on-the-road-yogi-festival/
LOCATION:Middletown Sports Complex\, 214 Harmony Road\, Middletown Township\, NJ\, 07748\, United States
CATEGORIES:Adoption Events
END:VEVENT
BEGIN:VEVENT
DTSTART;VALUE=DATE:20210926
DTEND;VALUE=DATE:20210927
DTSTAMP:20260420T084117
CREATED:20210606T160316Z
LAST-MODIFIED:20210606T160316Z
UID:6669-1632614400-1632700799@rescuedogsrocknyc.org
SUMMARY:Back On The Road Riverdale Adoption Event
DESCRIPTION:
URL:https://rescuedogsrocknyc.org/event/back-on-the-road-riverdale-adoption-event/
LOCATION:Mikes Feed Farm\, 90 Hamburg Tpke\, Ste 1\, Riverdale\, NJ\, 07457\, United States
CATEGORIES:Adoption Events
END:VEVENT
BEGIN:VEVENT
DTSTART;TZID=America/New_York:20210724T110000
DTEND;TZID=America/New_York:20210724T170000
DTSTAMP:20260420T084117
CREATED:20210606T160136Z
LAST-MODIFIED:20210606T160136Z
UID:6666-1627124400-1627146000@rescuedogsrocknyc.org
SUMMARY:Back On The Road Secaucus Adoption Event
DESCRIPTION:
URL:https://rescuedogsrocknyc.org/event/back-on-the-road-secaucus-adoption-event/
LOCATION:The Harper at Harmon Meadow\, 100 Park Plaza Drive\, Secaucas\, NJ\, 07094\, United States
CATEGORIES:Adoption Events
END:VEVENT
BEGIN:VEVENT
DTSTART;TZID=America/New_York:20210612T110000
DTEND;TZID=America/New_York:20210612T160000
DTSTAMP:20260420T084117
CREATED:20210606T155836Z
LAST-MODIFIED:20210606T155836Z
UID:6662-1623495600-1623513600@rescuedogsrocknyc.org
SUMMARY:Back On The Road Brooklyn Adoption Event
DESCRIPTION:
URL:https://rescuedogsrocknyc.org/event/back-on-the-road-brooklyn-adoption-event/
LOCATION:Marine Park\, 3301 Avenue U (next to Avenue U parking lot)\, Brooklyn\, NY\, 11234\, United States
CATEGORIES:Adoption Events
END:VEVENT
BEGIN:VEVENT
DTSTART;TZID=UTC:20191026T110000
DTEND;TZID=UTC:20191026T170000
DTSTAMP:20260420T084117
CREATED:20190808T234731Z
LAST-MODIFIED:20190808T234731Z
UID:5430-1572087600-1572109200@rescuedogsrocknyc.org
SUMMARY:Adoption Road Show hosted by Bareburger
DESCRIPTION:Bareburger is a huge supporter (and adopter) for RDRNYC. So come on by and patronize the Court St location\, while meeting some of our adoptable dogs and puppies! \nCan’t visit us today? Bareburger Brooklyn has 3 drink specials that ALL proceeds come back to RDRNYC! \nDon’t forget to start the approval process today at www.rescuedogsrocknyc.org \nemail: marketing.rdrnyc@gmail.com with question or to register your RDR dog! Space for dogs is limited!
URL:https://rescuedogsrocknyc.org/event/adoption-road-show-hosted-by-bareburger/
LOCATION:Bareburger (Park Slope)\, 170 7th Ave\,\, Brooklyn\, NY\, 11215\, United States
CATEGORIES:Adoption Events
ATTACH;FMTTYPE=image/png:https://rescuedogsrocknyc.org/wp-content/uploads/2019/08/OctBareburger.png
ORGANIZER;CN="marketing.rdrnyc@gmail.com":MAILTO:marketing.rdrnyc@gmail.com
END:VEVENT
BEGIN:VEVENT
DTSTART;TZID=UTC:20191005T110000
DTEND;TZID=UTC:20191005T160000
DTSTAMP:20260420T084117
CREATED:20190921T213851Z
LAST-MODIFIED:20190921T213851Z
UID:5718-1570273200-1570291200@rescuedogsrocknyc.org
SUMMARY:Adoption Road Show hosted by Sunrise Senior Living Fairfield
DESCRIPTION:Join Rescue Dogs Rock NYC at Sunrise Senior Living in Fairfield\, CT! Come by and meet some of our adorable adoptable dogs! \nStart the approval process today so you are pre-approved www.rescuedogsrocknyc.org
URL:https://rescuedogsrocknyc.org/event/adoption-road-show-hosted-by-sunrise-senior-living-fairfield/
LOCATION:CT
CATEGORIES:Adoption Events
ATTACH;FMTTYPE=image/png:https://rescuedogsrocknyc.org/wp-content/uploads/2019/09/38B896DB-7320-4FAC-A1F2-BD396753809D.png
ORGANIZER;CN="marketing.rdrnyc@gmail.com":MAILTO:marketing.rdrnyc@gmail.com
END:VEVENT
BEGIN:VEVENT
DTSTART;TZID=UTC:20190921T110000
DTEND;TZID=UTC:20190921T160000
DTSTAMP:20260420T084117
CREATED:20190812T212627Z
LAST-MODIFIED:20190812T212627Z
UID:5538-1569063600-1569081600@rescuedogsrocknyc.org
SUMMARY:Adoption Road Show hosted by Pet Valu
DESCRIPTION:Join Rescue Dogs Rock NYC at the Pet Valu in Edgewater New Jersey! Come by and meet some of our adorable adoptable dogs! \nStart the approval process today so you are pre-approved www.rescuedogsrocknyc.org
URL:https://rescuedogsrocknyc.org/event/adoption-road-show-hosted-by-pet-valu/
LOCATION:Pet Valu\, 725 River Rd\, Edgewater\, NJ\, 07020
CATEGORIES:Adoption Events
ATTACH;FMTTYPE=image/png:https://rescuedogsrocknyc.org/wp-content/uploads/2019/08/image1-1.png
ORGANIZER;CN="marketing.rdrnyc@gmail.com":MAILTO:marketing.rdrnyc@gmail.com
END:VEVENT
BEGIN:VEVENT
DTSTART;TZID=UTC:20190915T120000
DTEND;TZID=UTC:20190915T170000
DTSTAMP:20260420T084117
CREATED:20190808T234020Z
LAST-MODIFIED:20190808T235734Z
UID:5422-1568548800-1568566800@rescuedogsrocknyc.org
SUMMARY:Adoption Road Show at Adoptapalooza
DESCRIPTION:Join Rescue Dogs Rock NYC at the Rock and Rawhide NYC’s Animals Adoptapalooza! \nAdoptapalooza features additional activities and\, of course\, some of our adoptable dogs!!!!! \nStart the approval process today at www.rescuedogsrocknyc.org \n 
URL:https://rescuedogsrocknyc.org/event/adoption-road-show-at-adoptapalooza/
LOCATION:Union Square\, Union Square & 14th Street\, New York\, New York\, New York\, NY\, United States
CATEGORIES:Adoption Events
ATTACH;FMTTYPE=image/jpeg:https://rescuedogsrocknyc.org/wp-content/uploads/2019/08/67592782_2479265755487499_2702234882515402752_o.jpg
ORGANIZER;CN="":MAILTO:marketing.rdrnyc@gmail.com
END:VEVENT
BEGIN:VEVENT
DTSTART;TZID=UTC:20190824T100000
DTEND;TZID=UTC:20190824T140000
DTSTAMP:20260420T084117
CREATED:20190812T025901Z
LAST-MODIFIED:20190812T040225Z
UID:5519-1566640800-1566655200@rescuedogsrocknyc.org
SUMMARY:Adoption Road Show at the Tractor Supply Out Here With Animals Adoption Event
DESCRIPTION:Join Rescue Dogs Rock NYC at the Tractor Supply Out Here With Animals Adoption Event! Come by and meet some of our adorable adoptable dogs! \nStart the approval process today so you are pre-approved www.rescuedogsrocknyc.org
URL:https://rescuedogsrocknyc.org/event/adoption-road-show-at-the-tractor-supply-out-here-with-animals-adoption-event/
LOCATION:TractorSupply MD\, 222 Mountain Road\, Fallston\, MD\, 21047
CATEGORIES:Adoption Events
ATTACH;FMTTYPE=image/png:https://rescuedogsrocknyc.org/wp-content/uploads/2019/08/TractorSupply-e1565564288889.png
ORGANIZER;CN="marketing.rdrnyc@gmail.com":MAILTO:marketing.rdrnyc@gmail.com
END:VEVENT
BEGIN:VEVENT
DTSTART;TZID=UTC:20190727T110000
DTEND;TZID=UTC:20190727T170000
DTSTAMP:20260420T084117
CREATED:20190727T150038Z
LAST-MODIFIED:20190724T231329Z
UID:4360-1564225200-1564246800@rescuedogsrocknyc.org
SUMMARY:Adoption Road Show Hosted By Modern Pet
DESCRIPTION:
URL:https://rescuedogsrocknyc.org/event/modern-pet-adoption-event/
LOCATION:CT
CATEGORIES:Adoption Events
END:VEVENT
BEGIN:VEVENT
DTSTART;VALUE=DATE:20190713
DTEND;VALUE=DATE:20190714
DTSTAMP:20260420T084117
CREATED:20190402T073103Z
LAST-MODIFIED:20190402T073103Z
UID:4355-1562976000-1563062399@rescuedogsrocknyc.org
SUMMARY:Puppies and Pints
DESCRIPTION:
URL:https://rescuedogsrocknyc.org/event/puppies-and-pints/
LOCATION:CT
CATEGORIES:Adoption Events
END:VEVENT
BEGIN:VEVENT
DTSTART;VALUE=DATE:20190622
DTEND;VALUE=DATE:20190623
DTSTAMP:20260420T084117
CREATED:20190402T072315Z
LAST-MODIFIED:20190402T072315Z
UID:4348-1561161600-1561247999@rescuedogsrocknyc.org
SUMMARY:Pawz & Clawz Adoption and Information Fair
DESCRIPTION:
URL:https://rescuedogsrocknyc.org/event/pawz-clawz-adoption-and-information-fair/
LOCATION:CT
CATEGORIES:Adoption Events
END:VEVENT
BEGIN:VEVENT
DTSTART;VALUE=DATE:20190608
DTEND;VALUE=DATE:20190609
DTSTAMP:20260420T084117
CREATED:20190402T071150Z
LAST-MODIFIED:20190402T071150Z
UID:4340-1559952000-1560038399@rescuedogsrocknyc.org
SUMMARY:Bareburger Adoption Drive
DESCRIPTION:
URL:https://rescuedogsrocknyc.org/event/bareburger-adoption-drive/
LOCATION:CT
CATEGORIES:Adoption Events
END:VEVENT
BEGIN:VEVENT
DTSTART;VALUE=DATE:20190519
DTEND;VALUE=DATE:20190520
DTSTAMP:20260420T084117
CREATED:20190323T221818Z
LAST-MODIFIED:20190323T221818Z
UID:4075-1558224000-1558310399@rescuedogsrocknyc.org
SUMMARY:Mayors Alliance Adoption Event
DESCRIPTION:
URL:https://rescuedogsrocknyc.org/event/mayors-alliance-adoption-event/
LOCATION:CT
CATEGORIES:Adoption Events
END:VEVENT
END:VCALENDAR